Workbook

Sheet Arbeitstage
A1: Arbeitstage 2027 – Deutschland
A2: Gelbe Felder anpassen: Stunden pro Arbeitstag und Wochenmuster (0 = Arbeitstag, 1 = frei; Mo bis So, z. B. 0000011 = Mo–Fr). | F2: =HYPERLINK("https://kalenderjahr.de/kalender/2027/","kalenderjahr.de") -> kalenderjahr.de
A3: Stunden pro Arbeitstag | B3: 8
A4: Wochenmuster (Mo–So) | B4: 0000011
A6: Monat | B6: Von | C6: Bis | D6: Kalendertage | E6: Arbeitstage | F6: Sollstunden
A7: Januar | B7: 46388 | C7: 46418 | D7: =C7-B7+1 -> 31 | E7: =NETWORKDAYS.INTL(B7,C7,$B$4,'Feiertage und Ferien'!$A$4:$A$22) -> 19 | F7: =E7*$B$3 -> 152
A8: Februar | B8: 46419 | C8: 46446 | D8: =C8-B8+1 -> 28 | E8: =NETWORKDAYS.INTL(B8,C8,$B$4,'Feiertage und Ferien'!$A$4:$A$22) -> 20 | F8: =E8*$B$3 -> 160
A9: März | B9: 46447 | C9: 46477 | D9: =C9-B9+1 -> 31 | E9: =NETWORKDAYS.INTL(B9,C9,$B$4,'Feiertage und Ferien'!$A$4:$A$22) -> 20 | F9: =E9*$B$3 -> 160
A10: April | B10: 46478 | C10: 46507 | D10: =C10-B10+1 -> 30 | E10: =NETWORKDAYS.INTL(B10,C10,$B$4,'Feiertage und Ferien'!$A$4:$A$22) -> 22 | F10: =E10*$B$3 -> 176
A11: Mai | B11: 46508 | C11: 46538 | D11: =C11-B11+1 -> 31 | E11: =NETWORKDAYS.INTL(B11,C11,$B$4,'Feiertage und Ferien'!$A$4:$A$22) -> 18 | F11: =E11*$B$3 -> 144
A12: Juni | B12: 46539 | C12: 46568 | D12: =C12-B12+1 -> 30 | E12: =NETWORKDAYS.INTL(B12,C12,$B$4,'Feiertage und Ferien'!$A$4:$A$22) -> 22 | F12: =E12*$B$3 -> 176
A13: Juli | B13: 46569 | C13: 46599 | D13: =C13-B13+1 -> 31 | E13: =NETWORKDAYS.INTL(B13,C13,$B$4,'Feiertage und Ferien'!$A$4:$A$22) -> 22 | F13: =E13*$B$3 -> 176
A14: August | B14: 46600 | C14: 46630 | D14: =C14-B14+1 -> 31 | E14: =NETWORKDAYS.INTL(B14,C14,$B$4,'Feiertage und Ferien'!$A$4:$A$22) -> 22 | F14: =E14*$B$3 -> 176
A15: September | B15: 46631 | C15: 46660 | D15: =C15-B15+1 -> 30 | E15: =NETWORKDAYS.INTL(B15,C15,$B$4,'Feiertage und Ferien'!$A$4:$A$22) -> 21 | F15: =E15*$B$3 -> 168
A16: Oktober | B16: 46661 | C16: 46691 | D16: =C16-B16+1 -> 31 | E16: =NETWORKDAYS.INTL(B16,C16,$B$4,'Feiertage und Ferien'!$A$4:$A$22) -> 21 | F16: =E16*$B$3 -> 168
A17: November | B17: 46692 | C17: 46721 | D17: =C17-B17+1 -> 30 | E17: =NETWORKDAYS.INTL(B17,C17,$B$4,'Feiertage und Ferien'!$A$4:$A$22) -> 20 | F17: =E17*$B$3 -> 160
A18: Dezember | B18: 46722 | C18: 46752 | D18: =C18-B18+1 -> 31 | E18: =NETWORKDAYS.INTL(B18,C18,$B$4,'Feiertage und Ferien'!$A$4:$A$22) -> 23 | F18: =E18*$B$3 -> 184
A19: Summe | D19: =SUM(D7:D18) -> 365 | E19: =SUM(E7:E18) -> 250 | F19: =SUM(F7:F18) -> 2000

Sheet Feiertage und Ferien
A1: Feiertage 2027 – Deutschland
A2: =HYPERLINK("https://kalenderjahr.de/kalender/2027/","Quelle und Updates: kalenderjahr.de") -> Quelle und Updates: kalenderjahr.de
A3: Datum | B3: Tag | C3: Feiertag | D3: Gilt in
A4: 46388 | B4: Freitag | C4: Neujahr | D4: bundesweit
A5: 46393 | B5: Mittwoch | C5: Heilige Drei Könige | D5: Baden-Württemberg, Bayern, Sachsen-Anhalt
A6: 46454 | B6: Montag | C6: Internationaler Frauentag | D6: Berlin, Mecklenburg-Vorpommern
A7: 46472 | B7: Freitag | C7: Karfreitag | D7: bundesweit
A8: 46474 | B8: Sonntag | C8: Ostersonntag | D8: Brandenburg
A9: 46475 | B9: Montag | C9: Ostermontag | D9: bundesweit
A10: 46508 | B10: Samstag | C10: Tag der Arbeit | D10: bundesweit
A11: 46513 | B11: Donnerstag | C11: Christi Himmelfahrt | D11: bundesweit
A12: 46523 | B12: Sonntag | C12: Pfingstsonntag | D12: Brandenburg
A13: 46524 | B13: Montag | C13: Pfingstmontag | D13: bundesweit
A14: 46534 | B14: Donnerstag | C14: Fronleichnam | D14: Baden-Württemberg, Bayern, Hessen, Nordrhein-Westfalen, Rheinland-Pfalz, Saarland
A15: 46614 | B15: Sonntag | C15: Mariä Himmelfahrt | D15: Saarland, Bayern
... A22: 46747 | B22: Sonntag | C22: 2. Weihnachtstag | D22: bundesweit
